BEGIN:VCALENDAR
VERSION:2.0
PRODID:-//jEvents 2.0 for Joomla//EN
CALSCALE:GREGORIAN
METHOD:PUBLISH
BEGIN:VTIMEZONE
TZID:Europe/Berlin
BEGIN:STANDARD
DTSTART:20260114T193000
RDATE:20260329T030000
TZOFFSETFROM:+0200
TZOFFSETTO:+0100
TZNAME:Europe/Berlin CET
END:STANDARD
BEGIN:STANDARD
DTSTART:20261025T020000
RDATE:20270328T030000
TZOFFSETFROM:+0200
TZOFFSETTO:+0100
TZNAME:Europe/Berlin CET
END:STANDARD
BEGIN:STANDARD
DTSTART:20271031T020000
RDATE:20280326T030000
TZOFFSETFROM:+0200
TZOFFSETTO:+0100
TZNAME:Europe/Berlin CET
END:STANDARD
BEGIN:STANDARD
DTSTART:20281029T020000
RDATE:20290325T030000
TZOFFSETFROM:+0200
TZOFFSETTO:+0100
TZNAME:Europe/Berlin CET
END:STANDARD
BEGIN:STANDARD
DTSTART:20291028T020000
RDATE:20300331T030000
TZOFFSETFROM:+0200
TZOFFSETTO:+0100
TZNAME:Europe/Berlin CET
END:STANDARD
BEGIN:STANDARD
DTSTART:20301027T020000
RDATE:20310330T030000
TZOFFSETFROM:+0200
TZOFFSETTO:+0100
TZNAME:Europe/Berlin CET
END:STANDARD
BEGIN:STANDARD
DTSTART:20311026T020000
RDATE:20320328T030000
TZOFFSETFROM:+0200
TZOFFSETTO:+0100
TZNAME:Europe/Berlin CET
END:STANDARD
BEGIN:DAYLIGHT
DTSTART:20260329T030000
RDATE:20261025T020000
TZOFFSETFROM:+0100
TZOFFSETTO:+0200
TZNAME:Europe/Berlin CEST
END:DAYLIGHT
BEGIN:DAYLIGHT
DTSTART:20270328T030000
RDATE:20271031T020000
TZOFFSETFROM:+0100
TZOFFSETTO:+0200
TZNAME:Europe/Berlin CEST
END:DAYLIGHT
BEGIN:DAYLIGHT
DTSTART:20280326T030000
RDATE:20281029T020000
TZOFFSETFROM:+0100
TZOFFSETTO:+0200
TZNAME:Europe/Berlin CEST
END:DAYLIGHT
BEGIN:DAYLIGHT
DTSTART:20290325T030000
RDATE:20291028T020000
TZOFFSETFROM:+0100
TZOFFSETTO:+0200
TZNAME:Europe/Berlin CEST
END:DAYLIGHT
BEGIN:DAYLIGHT
DTSTART:20300331T030000
RDATE:20301027T020000
TZOFFSETFROM:+0100
TZOFFSETTO:+0200
TZNAME:Europe/Berlin CEST
END:DAYLIGHT
BEGIN:DAYLIGHT
DTSTART:20310330T030000
RDATE:20311026T020000
TZOFFSETFROM:+0100
TZOFFSETTO:+0200
TZNAME:Europe/Berlin CEST
END:DAYLIGHT
END:VTIMEZONE
BEGIN:VEVENT
UID:d10965763bd6a702dc258e91e6e9ec6c
CATEGORIES:Veranstaltungen
CREATED:20251129T115736
SUMMARY:JHV FF Mönchneversdorf
LOCATION:Freiwillige Feuerwehr Mönchneversdorf
URL;VALUE=URI:https://schoenwalde-am-bungsberg.com/index.php/termine/eventdetail/965/-/jh
 v-ff-moenchneversdorf?tmpl=component
DESCRIPTION: Dieser Event wurde importiert von: https://schoenwalde-am-bungsberg.com/in
 dex.php/termine/eventdetail/965/-/jhv-ff-moenchneversdorf?tmpl=component (h
 ttps://schoenwalde-am-bungsberg.com/index.php/termine/eventdetail/965/-/jhv
 -ff-moenchneversdorf?tmpl=component)
X-ALT-DESC;FMTTYPE=text/html: <a href="https://schoenwalde-am-bungsberg.com/index.php/termine/eventdetai
 l/965/-/jhv-ff-moenchneversdorf?tmpl=component">Dieser Event wurde importie
 rt von: https://schoenwalde-am-bungsberg.com/index.php/termine/eventdetail/
 965/-/jhv-ff-moenchneversdorf?tmpl=component</a>CONTACT:FF Mönchneversdorf
DTSTAMP:20260422T113040
DTSTART;TZID=Europe/Berlin:20270115T193000
SEQUENCE:0
TRANSP:OPAQUE
END:VEVENT
END:VCALENDAR