BEGIN:VCALENDAR
VERSION:2.0
PRODID:-//jEvents 2.0 for Joomla//EN
CALSCALE:GREGORIAN
METHOD:PUBLISH
BEGIN:VTIMEZONE
TZID:Europe/Berlin
BEGIN:STANDARD
DTSTART:20251120T110000
RDATE:20260329T030000
TZOFFSETFROM:+0200
TZOFFSETTO:+0100
TZNAME:Europe/Berlin CET
END:STANDARD
BEGIN:STANDARD
DTSTART:20261025T020000
RDATE:20270328T030000
TZOFFSETFROM:+0200
TZOFFSETTO:+0100
TZNAME:Europe/Berlin CET
END:STANDARD
BEGIN:STANDARD
DTSTART:20271031T020000
RDATE:20280326T030000
TZOFFSETFROM:+0200
TZOFFSETTO:+0100
TZNAME:Europe/Berlin CET
END:STANDARD
BEGIN:STANDARD
DTSTART:20281029T020000
RDATE:20290325T030000
TZOFFSETFROM:+0200
TZOFFSETTO:+0100
TZNAME:Europe/Berlin CET
END:STANDARD
BEGIN:STANDARD
DTSTART:20291028T020000
RDATE:20300331T030000
TZOFFSETFROM:+0200
TZOFFSETTO:+0100
TZNAME:Europe/Berlin CET
END:STANDARD
BEGIN:STANDARD
DTSTART:20301027T020000
RDATE:20310330T030000
TZOFFSETFROM:+0200
TZOFFSETTO:+0100
TZNAME:Europe/Berlin CET
END:STANDARD
BEGIN:STANDARD
DTSTART:20311026T020000
RDATE:20320328T030000
TZOFFSETFROM:+0200
TZOFFSETTO:+0100
TZNAME:Europe/Berlin CET
END:STANDARD
BEGIN:DAYLIGHT
DTSTART:20260329T030000
RDATE:20261025T020000
TZOFFSETFROM:+0100
TZOFFSETTO:+0200
TZNAME:Europe/Berlin CEST
END:DAYLIGHT
BEGIN:DAYLIGHT
DTSTART:20270328T030000
RDATE:20271031T020000
TZOFFSETFROM:+0100
TZOFFSETTO:+0200
TZNAME:Europe/Berlin CEST
END:DAYLIGHT
BEGIN:DAYLIGHT
DTSTART:20280326T030000
RDATE:20281029T020000
TZOFFSETFROM:+0100
TZOFFSETTO:+0200
TZNAME:Europe/Berlin CEST
END:DAYLIGHT
BEGIN:DAYLIGHT
DTSTART:20290325T030000
RDATE:20291028T020000
TZOFFSETFROM:+0100
TZOFFSETTO:+0200
TZNAME:Europe/Berlin CEST
END:DAYLIGHT
BEGIN:DAYLIGHT
DTSTART:20300331T030000
RDATE:20301027T020000
TZOFFSETFROM:+0100
TZOFFSETTO:+0200
TZNAME:Europe/Berlin CEST
END:DAYLIGHT
BEGIN:DAYLIGHT
DTSTART:20310330T030000
RDATE:20311026T020000
TZOFFSETFROM:+0100
TZOFFSETTO:+0200
TZNAME:Europe/Berlin CEST
END:DAYLIGHT
END:VTIMEZONE
BEGIN:VEVENT
UID:ff7d4cea50b7ae559b11ac47014213ec
CATEGORIES:Veranstaltungen
CREATED:20251128T204107
SUMMARY:Budenzauber
LOCATION:Pfarrhof Schönwalde a.B.
URL;VALUE=URI:https://schoenwalde-am-bungsberg.com/index.php/termine/eventdetail/799/-/bu
 denzauber?tmpl=component
DESCRIPTION:Kontakt Aileen Winkler (index.php?option=com_contact&amp;view=contact&amp;i
 d=103&amp;catid=12)\n Dieser Event wurde importiert von: https://schoenwald
 e-am-bungsberg.com/index.php/termine/eventdetail/799/-/budenzauber?tmpl=com
 ponent (https://schoenwalde-am-bungsberg.com/index.php/termine/eventdetail/
 799/-/budenzauber?tmpl=component)
X-ALT-DESC;FMTTYPE=text/html:<p>Kontakt&nbsp;<a href="https://schoenwalde-am-bungsberg.com/index.php?opt
 ion=com_contact&amp;view=contact&amp;id=103&amp;catid=12">Aileen Winkler</a
 ></p> <a href="https://schoenwalde-am-bungsberg.com/index.php/termine/event
 detail/799/-/budenzauber?tmpl=component">Dieser Event wurde importiert von:
  https://schoenwalde-am-bungsberg.com/index.php/termine/eventdetail/799/-/b
 udenzauber?tmpl=component</a>DTSTAMP:20260422T081304
DTSTART;TZID=Europe/Berlin:20261121T110000
DTEND;TZID=Europe/Berlin:20261121T160000
SEQUENCE:0
TRANSP:OPAQUE
END:VEVENT
END:VCALENDAR